BEGIN:VCALENDAR
VERSION:2.0
PRODID:-//Shotton Partnership - ECPv6.15.20//NONSGML v1.0//EN
CALSCALE:GREGORIAN
METHOD:PUBLISH
X-ORIGINAL-URL:https://shottonpartnership.org
X-WR-CALDESC:Events for Shotton Partnership
REFRESH-INTERVAL;VALUE=DURATION:PT1H
X-Robots-Tag:noindex
X-PUBLISHED-TTL:PT1H
BEGIN:VTIMEZONE
TZID:Europe/London
BEGIN:DAYLIGHT
TZOFFSETFROM:+0000
TZOFFSETTO:+0100
TZNAME:BST
DTSTART:20220327T010000
END:DAYLIGHT
BEGIN:STANDARD
TZOFFSETFROM:+0100
TZOFFSETTO:+0000
TZNAME:GMT
DTSTART:20221030T010000
END:STANDARD
BEGIN:DAYLIGHT
TZOFFSETFROM:+0000
TZOFFSETTO:+0100
TZNAME:BST
DTSTART:20230326T010000
END:DAYLIGHT
BEGIN:STANDARD
TZOFFSETFROM:+0100
TZOFFSETTO:+0000
TZNAME:GMT
DTSTART:20231029T010000
END:STANDARD
BEGIN:DAYLIGHT
TZOFFSETFROM:+0000
TZOFFSETTO:+0100
TZNAME:BST
DTSTART:20240331T010000
END:DAYLIGHT
BEGIN:STANDARD
TZOFFSETFROM:+0100
TZOFFSETTO:+0000
TZNAME:GMT
DTSTART:20241027T010000
END:STANDARD
BEGIN:DAYLIGHT
TZOFFSETFROM:+0000
TZOFFSETTO:+0100
TZNAME:BST
DTSTART:20250330T010000
END:DAYLIGHT
BEGIN:STANDARD
TZOFFSETFROM:+0100
TZOFFSETTO:+0000
TZNAME:GMT
DTSTART:20251026T010000
END:STANDARD
END:VTIMEZONE
BEGIN:VEVENT
DTSTART;TZID=Europe/London:20240115T180000
DTEND;TZID=Europe/London:20240115T191500
DTSTAMP:20260420T165054
CREATED:20231212T152931Z
LAST-MODIFIED:20231212T153055Z
UID:1514-1705341600-1705346100@shottonpartnership.org
SUMMARY:Karate Club For Ages 6+
DESCRIPTION:Karate is held every week at Shotton Community Partnership and all enquiries can be made to the organiser.
URL:https://shottonpartnership.org/event/karate-club-for-ages-6-3/
LOCATION:Shotton Community Centre\, Bridge Road\, Shotton Colliery\, DH6 2PB\, United Kingdom
CATEGORIES:Regular Activities,Young People
END:VEVENT
BEGIN:VEVENT
DTSTART;TZID=Europe/London:20240115T160000
DTEND;TZID=Europe/London:20240115T173000
DTSTAMP:20260420T165054
CREATED:20231212T145217Z
LAST-MODIFIED:20231212T145217Z
UID:1479-1705334400-1705339800@shottonpartnership.org
SUMMARY:Youth Session
DESCRIPTION:Our weekly youth sessions run every Monday from 4 – 5.30pm. Aimed at children aged 6 – 13. We offer a range of activities including ball games\, softball\, netball\,  craft activities and board games. \nThese sessions are welcoming with the leaders taloring the sessions\, wherever possible\, to the requests of the children. \nWith exciting activities and fun things to do if you would like to bring your child you are welcome to do so. Parents are encouraged to leave their children after the first session. \nFor more information phone\, 0191 5264213
URL:https://shottonpartnership.org/event/youth-session-3/
LOCATION:Shotton Community Centre\, Bridge Road\, Shotton Colliery\, DH6 2PB\, United Kingdom
CATEGORIES:Regular Activities,Young People
END:VEVENT
BEGIN:VEVENT
DTSTART;TZID=Europe/London:20240109T160000
DTEND;TZID=Europe/London:20240109T180000
DTSTAMP:20260420T165054
CREATED:20240102T161220Z
LAST-MODIFIED:20240102T161317Z
UID:1651-1704816000-1704823200@shottonpartnership.org
SUMMARY:Youth Session
DESCRIPTION:Our weekly youth sessions run every Monday and Tuesday. Aimed at children aged 6 – 13. We offer a range of activities including ball games\, softball\, netball\,  craft activities and board games. \nThese sessions are welcoming with the leaders taloring the sessions\, wherever possible\, to the requests of the children. \nWith exciting activities and fun things to do if you would like to bring your child you are welcome to do so. Parents are encouraged to leave their children after the first session. \nFor more information phone\, 0191 5264213
URL:https://shottonpartnership.org/event/youth-session-6/
LOCATION:Shotton Community Centre\, Bridge Road\, Shotton Colliery\, DH6 2PB\, United Kingdom
CATEGORIES:Regular Activities,Young People
END:VEVENT
BEGIN:VEVENT
DTSTART;TZID=Europe/London:20240109T133000
DTEND;TZID=Europe/London:20240109T163000
DTSTAMP:20260420T165054
CREATED:20240102T160724Z
LAST-MODIFIED:20240102T160724Z
UID:1642-1704807000-1704817800@shottonpartnership.org
SUMMARY:Carpet Bowls
DESCRIPTION:This is a regular group meeting at Shotton Community Hub.
URL:https://shottonpartnership.org/event/carpet-bowls/
LOCATION:Shotton Community Centre\, Bridge Road\, Shotton Colliery\, DH6 2PB\, United Kingdom
CATEGORIES:Regular Activities
END:VEVENT
BEGIN:VEVENT
DTSTART;TZID=Europe/London:20240109T110000
DTEND;TZID=Europe/London:20240109T120000
DTSTAMP:20260420T165054
CREATED:20240102T155435Z
LAST-MODIFIED:20240102T155826Z
UID:1632-1704798000-1704801600@shottonpartnership.org
SUMMARY:Coffee Morning
DESCRIPTION:Join our regulars for coffee\, biscuits and a good natter at our weekly coffee morning sessions. The perfect chance to meet up and have a chat.
URL:https://shottonpartnership.org/event/coffee-morning/
LOCATION:Shotton Community Centre\, Bridge Road\, Shotton Colliery\, DH6 2PB\, United Kingdom
CATEGORIES:Regular Activities
ATTACH;FMTTYPE=image/png:https://shottonpartnership.org/wp-content/uploads/2024/01/Morning-Coffee-Shotton-Partnership.png
END:VEVENT
BEGIN:VEVENT
DTSTART;TZID=Europe/London:20240109T100000
DTEND;TZID=Europe/London:20240109T120000
DTSTAMP:20260420T165054
CREATED:20231214T142641Z
LAST-MODIFIED:20231214T142641Z
UID:1555-1704794400-1704801600@shottonpartnership.org
SUMMARY:Chatterbox Group
DESCRIPTION:Our chatterbox group meet every Tuesday morning for fun and crafting whilst they…chatter! \nFrom beautiful Christmas Wreaths to Easter arrangements and beautiful Poppy craftwork we enjoy tackling a range of crafting skills. There is a lot of support for anyone who has not crafted before and there are refreshments available in the cafe. \nJust £1 per week.
URL:https://shottonpartnership.org/event/chatterbox-group-2/
LOCATION:Shotton Community Centre\, Bridge Road\, Shotton Colliery\, DH6 2PB\, United Kingdom
CATEGORIES:Regular Activities
END:VEVENT
BEGIN:VEVENT
DTSTART;TZID=Europe/London:20240109T093000
DTEND;TZID=Europe/London:20240109T120000
DTSTAMP:20260420T165054
CREATED:20231214T141248Z
LAST-MODIFIED:20231214T141248Z
UID:1545-1704792600-1704801600@shottonpartnership.org
SUMMARY:British Heart Foundation
DESCRIPTION:This group is for those referred by their GP\, Nurse or Medical Practitioner.
URL:https://shottonpartnership.org/event/british-heart-foundation-2/
LOCATION:Shotton Community Centre\, Bridge Road\, Shotton Colliery\, DH6 2PB\, United Kingdom
CATEGORIES:Regular Activities
ATTACH;FMTTYPE=image/png:https://shottonpartnership.org/wp-content/uploads/2023/12/BHF.png
END:VEVENT
BEGIN:VEVENT
DTSTART;TZID=Europe/London:20240108T191500
DTEND;TZID=Europe/London:20240108T203000
DTSTAMP:20260420T165054
CREATED:20231214T135615Z
LAST-MODIFIED:20231214T135615Z
UID:1529-1704741300-1704745800@shottonpartnership.org
SUMMARY:Karate Club Higher Level
DESCRIPTION:Karate is held every week at Shotton Community Partnership and all enquiries can be made to the organiser. \nThis group is a higher level group for those who have been taking part in lessons.
URL:https://shottonpartnership.org/event/karate-club-higher-level-2/
LOCATION:Shotton Community Centre\, Bridge Road\, Shotton Colliery\, DH6 2PB\, United Kingdom
CATEGORIES:Regular Activities,Young People
END:VEVENT
BEGIN:VEVENT
DTSTART;TZID=Europe/London:20240108T180000
DTEND;TZID=Europe/London:20240108T191500
DTSTAMP:20260420T165054
CREATED:20231212T152820Z
LAST-MODIFIED:20231212T152820Z
UID:1512-1704736800-1704741300@shottonpartnership.org
SUMMARY:Karate Club For Ages 6+
DESCRIPTION:Karate is held every week at Shotton Community Partnership and all enquiries can be made to the organiser.
URL:https://shottonpartnership.org/event/karate-club-for-ages-6-2/
LOCATION:Shotton Community Centre\, Bridge Road\, Shotton Colliery\, DH6 2PB\, United Kingdom
CATEGORIES:Regular Activities,Young People
END:VEVENT
BEGIN:VEVENT
DTSTART;TZID=Europe/London:20240108T160000
DTEND;TZID=Europe/London:20240108T173000
DTSTAMP:20260420T165054
CREATED:20231212T110742Z
LAST-MODIFIED:20231212T114026Z
UID:1390-1704729600-1704735000@shottonpartnership.org
SUMMARY:Youth Session
DESCRIPTION:Our weekly youth sessions run every Monday from 4 – 5.30pm. Aimed at children aged 6 – 13. We offer a range of activities including ball games\, softball\, netball\,  craft activities and board games. \nThese sessions are welcoming with the leaders taloring the sessions\, wherever possible\, to the requests of the children. \nWith exciting activities and fun things to do if you would like to bring your child you are welcome to do so. Parents are encouraged to leave their children after the first session. \nFor more information phone\, 0191 5264213
URL:https://shottonpartnership.org/event/youth-session-2/
LOCATION:Shotton Community Centre\, Bridge Road\, Shotton Colliery\, DH6 2PB\, United Kingdom
CATEGORIES:Regular Activities,Young People
END:VEVENT
BEGIN:VEVENT
DTSTART;TZID=Europe/London:20231219T100000
DTEND;TZID=Europe/London:20231219T120000
DTSTAMP:20260420T165054
CREATED:20231214T142110Z
LAST-MODIFIED:20231214T142110Z
UID:1553-1702980000-1702987200@shottonpartnership.org
SUMMARY:Chatterbox Group
DESCRIPTION:Our chatterbox group meet every Tuesday morning for fun and crafting whilst they…chatter! \nFrom beautiful Christmas Wreaths to Easter arrangements and beautiful Poppy craftwork we enjoy tackling a range of crafting skills. There is a lot of support for anyone who has not crafted before and there are refreshments available in the cafe. \nJust £1 per week.
URL:https://shottonpartnership.org/event/chatterbox-group/
LOCATION:Shotton Community Centre\, Bridge Road\, Shotton Colliery\, DH6 2PB\, United Kingdom
CATEGORIES:Regular Activities
END:VEVENT
BEGIN:VEVENT
DTSTART;TZID=Europe/London:20231219T093000
DTEND;TZID=Europe/London:20231219T120000
DTSTAMP:20260420T165054
CREATED:20231214T141129Z
LAST-MODIFIED:20231214T141129Z
UID:1542-1702978200-1702987200@shottonpartnership.org
SUMMARY:British Heart Foundation
DESCRIPTION:This group is for those referred by their GP\, Nurse or Medical Practitioner.
URL:https://shottonpartnership.org/event/british-heart-foundation/
LOCATION:Shotton Community Centre\, Bridge Road\, Shotton Colliery\, DH6 2PB\, United Kingdom
CATEGORIES:Regular Activities
ATTACH;FMTTYPE=image/png:https://shottonpartnership.org/wp-content/uploads/2023/12/BHF.png
END:VEVENT
BEGIN:VEVENT
DTSTART;TZID=Europe/London:20231218T191500
DTEND;TZID=Europe/London:20231218T203000
DTSTAMP:20260420T165054
CREATED:20231214T134924Z
LAST-MODIFIED:20231214T134924Z
UID:1527-1702926900-1702931400@shottonpartnership.org
SUMMARY:Karate Club Higher Level
DESCRIPTION:Karate is held every week at Shotton Community Partnership and all enquiries can be made to the organiser. \nThis group is a higher level group for those who have been taking part in lessons.
URL:https://shottonpartnership.org/event/karate-club-higher-level/
LOCATION:Shotton Community Centre\, Bridge Road\, Shotton Colliery\, DH6 2PB\, United Kingdom
CATEGORIES:Regular Activities,Young People
END:VEVENT
BEGIN:VEVENT
DTSTART;TZID=Europe/London:20231218T180000
DTEND;TZID=Europe/London:20231218T191500
DTSTAMP:20260420T165054
CREATED:20231212T145759Z
LAST-MODIFIED:20231212T145759Z
UID:1482-1702922400-1702926900@shottonpartnership.org
SUMMARY:Karate Club For Ages 6+
DESCRIPTION:Karate is held every week at Shotton Community Partnership and all enquiries can be made to the organiser.
URL:https://shottonpartnership.org/event/karate-club-for-ages-6/
LOCATION:Shotton Community Centre\, Bridge Road\, Shotton Colliery\, DH6 2PB\, United Kingdom
CATEGORIES:Regular Activities,Young People
END:VEVENT
BEGIN:VEVENT
DTSTART;TZID=Europe/London:20231218T160000
DTEND;TZID=Europe/London:20231218T173000
DTSTAMP:20260420T165054
CREATED:20231212T110309Z
LAST-MODIFIED:20231212T114136Z
UID:1387-1702915200-1702920600@shottonpartnership.org
SUMMARY:Youth Session
DESCRIPTION:Our weekly youth sessions run every Monday from 4 – 5.30pm. Aimed at children aged 6 – 13. We offer a range of activities including ball games\, softball\, netball\,  craft activities and board games. \nThese sessions are welcoming with the leaders taloring the sessions\, wherever possible\, to the requests of the children. \nWith exciting activities and fun things to do if you would like to bring your child you are welcome to do so. Parents are encouraged to leave their children after the first session. \nFor more information phone\, 0191 5264213
URL:https://shottonpartnership.org/event/youth-session/
LOCATION:Shotton Community Centre\, Bridge Road\, Shotton Colliery\, DH6 2PB\, United Kingdom
CATEGORIES:Regular Activities,Young People
END:VEVENT
END:VCALENDAR